{"text_format":"1","workbook":"xlsx","n_sheets":3,"sheets":["Sheet1","Sheet2","Sheet3"],"not_rendered":{"charts":0,"images":5,"macros":0,"external_links":0,"defined_names":2,"comments":1,"pivot_tables":2},"unopened":[],"bounds":{"document_bytes":16777216,"sheet_cells":100000,"rows_first":2000,"rows_last":500,"rows_between":2000,"halvings":0,"cell_chars":16384,"cell_head_chars":4096},"cells_cut":0,"cells_raw":0,"read":"whole","date_system":"1900"}

{"sheet":"Sheet1","index":0,"n_rows":53,"n_cols":18,"rows_kept":53,"cut":false,"hidden":false,"merged":[]}
[null,null,null,null,null,null,null,null,null,null,null,null,null,"Alternate Method"]
[]
[null,null,null,null,null,null,null,null,null,null,null,null,null,null,"YYr","Values"]
[null,"Company","DDate","Value","YYr",null,"Sum of Value","YYr",null,null,null,null,null,null,2008,null,2009]
[null,"Pifer","2009-03-02",85,{"$f":"YEAR(Sheet1!$C$5:$C$53)","v":2009},null,"Company",2008,2009,"Change",null,null,null,"Company","Val_","Pct","Val_","Pct"]
[null,"Mipon","2008-09-21",31,{"$f":"YEAR(Sheet1!$C$5:$C$53)","v":2008},null,"Pifer",136,490,354,null,null,null,"Hoden",27,null,151,4.5925925925925926]
[null,"Gidas","2008-11-22",77,{"$f":"YEAR(Sheet1!$C$5:$C$53)","v":2008},null,"Hoden",27,151,124,null,null,null,"Pifer",136,null,490,2.6029411764705883]
[null,"Papel","2008-08-07",16,{"$f":"YEAR(Sheet1!$C$5:$C$53)","v":2008},null,"Papel",581,599,18,null,null,null,"Papel",581,null,599,3.098106712564544E-2]
[null,"Hoden","2009-11-22",46,{"$f":"YEAR(Sheet1!$C$5:$C$53)","v":2009},null,"Gidas",124,76,-48,null,null,null,"Gidas",124,null,76,-0.38709677419354838]
[null,"Pifer","2008-09-03",43,{"$f":"YEAR(Sheet1!$C$5:$C$53)","v":2008},null,"Mipon",492,81,-411,null,null,null,"Mipon",492,null,81,-0.83536585365853655]
[null,"Papel","2009-09-20",48,{"$f":"YEAR(Sheet1!$C$5:$C$53)","v":2009}]
[null,"Papel","2009-09-09",65,{"$f":"YEAR(Sheet1!$C$5:$C$53)","v":2009}]
[null,"Gidas","2008-02-24",47,{"$f":"YEAR(Sheet1!$C$5:$C$53)","v":2008}]
[null,"Papel","2009-05-23",91,{"$f":"YEAR(Sheet1!$C$5:$C$53)","v":2009}]
[null,"Mipon","2009-04-16",22,{"$f":"YEAR(Sheet1!$C$5:$C$53)","v":2009}]
[null,"Hoden","2009-02-21",62,{"$f":"YEAR(Sheet1!$C$5:$C$53)","v":2009}]
[null,"Mipon","2008-08-19",79,{"$f":"YEAR(Sheet1!$C$5:$C$53)","v":2008}]
[null,"Mipon","2009-08-10",25,{"$f":"YEAR(Sheet1!$C$5:$C$53)","v":2009}]
[null,"Mipon","2009-07-07",34,{"$f":"YEAR(Sheet1!$C$5:$C$53)","v":2009}]
[null,"Papel","2008-11-16",75,{"$f":"YEAR(Sheet1!$C$5:$C$53)","v":2008}]
[null,"Papel","2009-04-16",60,{"$f":"YEAR(Sheet1!$C$5:$C$53)","v":2009}]
[null,"Papel","2008-07-29",45,{"$f":"YEAR(Sheet1!$C$5:$C$53)","v":2008}]
[null,"Mipon","2008-09-29",55,{"$f":"YEAR(Sheet1!$C$5:$C$53)","v":2008}]
[null,"Papel","2008-07-27",59,{"$f":"YEAR(Sheet1!$C$5:$C$53)","v":2008}]
[null,"Mipon","2008-10-13",87,{"$f":"YEAR(Sheet1!$C$5:$C$53)","v":2008}]
[null,"Papel","2008-09-26",76,{"$f":"YEAR(Sheet1!$C$5:$C$53)","v":2008}]
[null,"Gidas","2009-10-17",63,{"$f":"YEAR(Sheet1!$C$5:$C$53)","v":2009}]
[null,"Pifer","2008-09-05",63,{"$f":"YEAR(Sheet1!$C$5:$C$53)","v":2008}]
[null,"Pifer","2008-08-01",30,{"$f":"YEAR(Sheet1!$C$5:$C$53)","v":2008}]
[null,"Mipon","2008-06-27",41,{"$f":"YEAR(Sheet1!$C$5:$C$53)","v":2008}]
[null,"Pifer","2009-12-17",97,{"$f":"YEAR(Sheet1!$C$5:$C$53)","v":2009}]
[null,"Papel","2009-03-19",39,{"$f":"YEAR(Sheet1!$C$5:$C$53)","v":2009}]
[null,"Mipon","2008-02-21",30,{"$f":"YEAR(Sheet1!$C$5:$C$53)","v":2008}]
[null,"Pifer","2009-07-08",92,{"$f":"YEAR(Sheet1!$C$5:$C$53)","v":2009}]
[null,"Papel","2009-02-23",71,{"$f":"YEAR(Sheet1!$C$5:$C$53)","v":2009}]
[null,"Papel","2008-09-02",41,{"$f":"YEAR(Sheet1!$C$5:$C$53)","v":2008}]
[null,"Gidas","2009-06-04",13,{"$f":"YEAR(Sheet1!$C$5:$C$53)","v":2009}]
[null,"Mipon","2008-11-03",62,{"$f":"YEAR(Sheet1!$C$5:$C$53)","v":2008}]
[null,"Pifer","2009-08-31",94,{"$f":"YEAR(Sheet1!$C$5:$C$53)","v":2009}]
[null,"Papel","2009-11-07",81,{"$f":"YEAR(Sheet1!$C$5:$C$53)","v":2009}]
[null,"Papel","2009-04-12",20,{"$f":"YEAR(Sheet1!$C$5:$C$53)","v":2009}]
[null,"Mipon","2008-06-05",56,{"$f":"YEAR(Sheet1!$C$5:$C$53)","v":2008}]
[null,"Mipon","2008-02-25",51,{"$f":"YEAR(Sheet1!$C$5:$C$53)","v":2008}]
[null,"Pifer","2009-01-21",90,{"$f":"YEAR(Sheet1!$C$5:$C$53)","v":2009}]
[null,"Hoden","2008-04-21",27,{"$f":"YEAR(Sheet1!$C$5:$C$53)","v":2008}]
[null,"Papel","2009-07-31",78,{"$f":"YEAR(Sheet1!$C$5:$C$53)","v":2009}]
[null,"Papel","2008-09-04",77,{"$f":"YEAR(Sheet1!$C$5:$C$53)","v":2008}]
[null,"Hoden","2009-05-09",43,{"$f":"YEAR(Sheet1!$C$5:$C$53)","v":2009}]
[null,"Papel","2008-12-15",78,{"$f":"YEAR(Sheet1!$C$5:$C$53)","v":2008}]
[null,"Papel","2008-03-26",34,{"$f":"YEAR(Sheet1!$C$5:$C$53)","v":2008}]
[null,"Pifer","2009-04-27",32,{"$f":"YEAR(Sheet1!$C$5:$C$53)","v":2009}]
[null,"Papel","2008-02-29",80,{"$f":"YEAR(Sheet1!$C$5:$C$53)","v":2008}]
[null,"Papel","2009-09-03",46,{"$f":"YEAR(Sheet1!$C$5:$C$53)","v":2009}]

{"sheet":"Sheet2","index":1,"n_rows":11,"n_cols":3,"rows_kept":11,"cut":false,"hidden":false,"merged":[]}
[]
[]
[]
[]
[]
[null,null,"Column1"]
[null,null,"Mipon"]
[null,null,"Papel"]
[null,null,"Gidas"]
[null,null,"Pifer"]
[null,null,"Hoden"]

{"sheet":"Sheet3","index":2,"n_rows":0,"n_cols":0,"rows_kept":0,"cut":false,"hidden":false,"merged":[]}